BEGIN:VCALENDAR
VERSION:2.0
PRODID:-//Recycling Council of Alberta - ECPv6.15.20//NONSGML v1.0//EN
CALSCALE:GREGORIAN
METHOD:PUBLISH
X-ORIGINAL-URL:https://recycle.ab.ca
X-WR-CALDESC:Events for Recycling Council of Alberta
REFRESH-INTERVAL;VALUE=DURATION:PT1H
X-Robots-Tag:noindex
X-PUBLISHED-TTL:PT1H
BEGIN:VTIMEZONE
TZID:America/Los_Angeles
BEGIN:DAYLIGHT
TZOFFSETFROM:-0800
TZOFFSETTO:-0700
TZNAME:PDT
DTSTART:20250309T100000
END:DAYLIGHT
BEGIN:STANDARD
TZOFFSETFROM:-0700
TZOFFSETTO:-0800
TZNAME:PST
DTSTART:20251102T090000
END:STANDARD
BEGIN:DAYLIGHT
TZOFFSETFROM:-0800
TZOFFSETTO:-0700
TZNAME:PDT
DTSTART:20260308T100000
END:DAYLIGHT
BEGIN:STANDARD
TZOFFSETFROM:-0700
TZOFFSETTO:-0800
TZNAME:PST
DTSTART:20261101T090000
END:STANDARD
BEGIN:DAYLIGHT
TZOFFSETFROM:-0800
TZOFFSETTO:-0700
TZNAME:PDT
DTSTART:20270314T100000
END:DAYLIGHT
BEGIN:STANDARD
TZOFFSETFROM:-0700
TZOFFSETTO:-0800
TZNAME:PST
DTSTART:20271107T090000
END:STANDARD
END:VTIMEZONE
BEGIN:VTIMEZONE
TZID:America/Edmonton
BEGIN:DAYLIGHT
TZOFFSETFROM:-0700
TZOFFSETTO:-0600
TZNAME:MDT
DTSTART:20250309T090000
END:DAYLIGHT
BEGIN:STANDARD
TZOFFSETFROM:-0600
TZOFFSETTO:-0700
TZNAME:MST
DTSTART:20251102T080000
END:STANDARD
BEGIN:DAYLIGHT
TZOFFSETFROM:-0700
TZOFFSETTO:-0600
TZNAME:MDT
DTSTART:20260308T090000
END:DAYLIGHT
BEGIN:STANDARD
TZOFFSETFROM:-0600
TZOFFSETTO:-0700
TZNAME:MST
DTSTART:20261101T080000
END:STANDARD
BEGIN:DAYLIGHT
TZOFFSETFROM:-0700
TZOFFSETTO:-0600
TZNAME:MDT
DTSTART:20270314T090000
END:DAYLIGHT
BEGIN:STANDARD
TZOFFSETFROM:-0600
TZOFFSETTO:-0700
TZNAME:MST
DTSTART:20271107T080000
END:STANDARD
END:VTIMEZONE
BEGIN:VTIMEZONE
TZID:America/Regina
BEGIN:STANDARD
TZOFFSETFROM:-0600
TZOFFSETTO:-0600
TZNAME:CST
DTSTART:20250101T000000
END:STANDARD
END:VTIMEZONE
BEGIN:VEVENT
DTSTART;VALUE=DATE:20260202
DTEND;VALUE=DATE:20260206
DTSTAMP:20260421T221550
CREATED:20250508T185618Z
LAST-MODIFIED:20250508T185743Z
UID:10000094-1769990400-1770335999@recycle.ab.ca
SUMMARY:COMPOST2026 "Golden State of Compost"
DESCRIPTION:in Sacramento\, Calif. \nUSCC’s 2026 Conference and Trade Show
URL:https://recycle.ab.ca/calendar/compost2026-golden-state-of-compost/
LOCATION:AB
CATEGORIES:External Circular,Conference
END:VEVENT
BEGIN:VEVENT
DTSTART;VALUE=DATE:20260219
DTEND;VALUE=DATE:20260221
DTSTAMP:20260421T221550
CREATED:20251209T232142Z
LAST-MODIFIED:20251209T233054Z
UID:10000177-1771459200-1771631999@recycle.ab.ca
SUMMARY:ECO Impact
DESCRIPTION:in Calgary\, AB
URL:https://recycle.ab.ca/calendar/eco-impact/
LOCATION:The Westin Calgary\, 320 4 Ave SW\, Calgary\, AB\, T2P 2S6\, Canada
CATEGORIES:External Circular,Conference
END:VEVENT
BEGIN:VEVENT
DTSTART;VALUE=DATE:20260223
DTEND;VALUE=DATE:20260226
DTSTAMP:20260421T221550
CREATED:20250521T172150Z
LAST-MODIFIED:20251211T194010Z
UID:10000096-1771804800-1772063999@recycle.ab.ca
SUMMARY:Plastics Recycling Conference\, Resource Recycling Conference\, and Textile Recovery Summit
DESCRIPTION:in San Diego\, California
URL:https://recycle.ab.ca/calendar/resource-recycling-conference/
LOCATION:AB
CATEGORIES:External Circular,Conference
END:VEVENT
BEGIN:VEVENT
DTSTART;TZID=America/Edmonton:20260223T090000
DTEND;TZID=America/Edmonton:20260223T123000
DTSTAMP:20260421T221550
CREATED:20250902T231844Z
LAST-MODIFIED:20250902T232019Z
UID:10000154-1771837200-1771849800@recycle.ab.ca
SUMMARY:Compost Facility Operator Training Course
DESCRIPTION:The Compost Council of Canada is offering the Compost Facility Operator Training Course. \nOne Week – FIVE 3.5-hour sessions including the optional operator’s exam \nCourse Fee:\n$695 + applicable taxes (CCC/SWANA Members)\n$895 + applicable taxes (potential members) \nOptional Certification Exam = $150 + applicable taxes \nWho Should Attend? \n\nCompost Facility Operators & Managers\nPublic Officials Involved with Solid Waste/Health Departments\nThose Involved in Agricultural Operations and/or Research\nTechnology Service Providers & Equipment Vendors\nConsultants Working with Compost Facilities\nGovernment Regulators of Compost Facilities
URL:https://recycle.ab.ca/calendar/compost-facility-operator-training-course-2/2026-02-23/
LOCATION:AB
CATEGORIES:External Circular,Workshop/Training
END:VEVENT
BEGIN:VEVENT
DTSTART;TZID=America/Edmonton:20260224T090000
DTEND;TZID=America/Edmonton:20260224T123000
DTSTAMP:20260421T221550
CREATED:20250902T231844Z
LAST-MODIFIED:20250902T232019Z
UID:10000155-1771923600-1771936200@recycle.ab.ca
SUMMARY:Compost Facility Operator Training Course
DESCRIPTION:The Compost Council of Canada is offering the Compost Facility Operator Training Course. \nOne Week – FIVE 3.5-hour sessions including the optional operator’s exam \nCourse Fee:\n$695 + applicable taxes (CCC/SWANA Members)\n$895 + applicable taxes (potential members) \nOptional Certification Exam = $150 + applicable taxes \nWho Should Attend? \n\nCompost Facility Operators & Managers\nPublic Officials Involved with Solid Waste/Health Departments\nThose Involved in Agricultural Operations and/or Research\nTechnology Service Providers & Equipment Vendors\nConsultants Working with Compost Facilities\nGovernment Regulators of Compost Facilities
URL:https://recycle.ab.ca/calendar/compost-facility-operator-training-course-2/2026-02-24/
LOCATION:AB
CATEGORIES:External Circular,Workshop/Training
END:VEVENT
BEGIN:VEVENT
DTSTART;TZID=America/Edmonton:20260225T090000
DTEND;TZID=America/Edmonton:20260225T123000
DTSTAMP:20260421T221550
CREATED:20250902T231844Z
LAST-MODIFIED:20250902T232019Z
UID:10000156-1772010000-1772022600@recycle.ab.ca
SUMMARY:Compost Facility Operator Training Course
DESCRIPTION:The Compost Council of Canada is offering the Compost Facility Operator Training Course. \nOne Week – FIVE 3.5-hour sessions including the optional operator’s exam \nCourse Fee:\n$695 + applicable taxes (CCC/SWANA Members)\n$895 + applicable taxes (potential members) \nOptional Certification Exam = $150 + applicable taxes \nWho Should Attend? \n\nCompost Facility Operators & Managers\nPublic Officials Involved with Solid Waste/Health Departments\nThose Involved in Agricultural Operations and/or Research\nTechnology Service Providers & Equipment Vendors\nConsultants Working with Compost Facilities\nGovernment Regulators of Compost Facilities
URL:https://recycle.ab.ca/calendar/compost-facility-operator-training-course-2/2026-02-25/
LOCATION:AB
CATEGORIES:External Circular,Workshop/Training
END:VEVENT
BEGIN:VEVENT
DTSTART;TZID=America/Regina:20260225T103000
DTEND;TZID=America/Regina:20260225T120000
DTSTAMP:20260421T221550
CREATED:20260117T003753Z
LAST-MODIFIED:20260117T003753Z
UID:10000180-1772015400-1772020800@recycle.ab.ca
SUMMARY:Webinar: Repair Cafes 101
DESCRIPTION:A Webinar on How Smaller Communities Can Host Their Own Repair Events
URL:https://recycle.ab.ca/calendar/webinar-repair-cafes-101/
LOCATION:AB
CATEGORIES:External Circular,Webinar
END:VEVENT
BEGIN:VEVENT
DTSTART;TZID=America/Edmonton:20260226T090000
DTEND;TZID=America/Edmonton:20260226T123000
DTSTAMP:20260421T221550
CREATED:20250902T231844Z
LAST-MODIFIED:20250902T232019Z
UID:10000157-1772096400-1772109000@recycle.ab.ca
SUMMARY:Compost Facility Operator Training Course
DESCRIPTION:The Compost Council of Canada is offering the Compost Facility Operator Training Course. \nOne Week – FIVE 3.5-hour sessions including the optional operator’s exam \nCourse Fee:\n$695 + applicable taxes (CCC/SWANA Members)\n$895 + applicable taxes (potential members) \nOptional Certification Exam = $150 + applicable taxes \nWho Should Attend? \n\nCompost Facility Operators & Managers\nPublic Officials Involved with Solid Waste/Health Departments\nThose Involved in Agricultural Operations and/or Research\nTechnology Service Providers & Equipment Vendors\nConsultants Working with Compost Facilities\nGovernment Regulators of Compost Facilities
URL:https://recycle.ab.ca/calendar/compost-facility-operator-training-course-2/2026-02-26/
LOCATION:AB
CATEGORIES:External Circular,Workshop/Training
END:VEVENT
BEGIN:VEVENT
DTSTART;TZID=America/Edmonton:20260227T090000
DTEND;TZID=America/Edmonton:20260227T123000
DTSTAMP:20260421T221550
CREATED:20250902T231844Z
LAST-MODIFIED:20250902T232019Z
UID:10000158-1772182800-1772195400@recycle.ab.ca
SUMMARY:Compost Facility Operator Training Course
DESCRIPTION:The Compost Council of Canada is offering the Compost Facility Operator Training Course. \nOne Week – FIVE 3.5-hour sessions including the optional operator’s exam \nCourse Fee:\n$695 + applicable taxes (CCC/SWANA Members)\n$895 + applicable taxes (potential members) \nOptional Certification Exam = $150 + applicable taxes \nWho Should Attend? \n\nCompost Facility Operators & Managers\nPublic Officials Involved with Solid Waste/Health Departments\nThose Involved in Agricultural Operations and/or Research\nTechnology Service Providers & Equipment Vendors\nConsultants Working with Compost Facilities\nGovernment Regulators of Compost Facilities
URL:https://recycle.ab.ca/calendar/compost-facility-operator-training-course-2/2026-02-27/
LOCATION:AB
CATEGORIES:External Circular,Workshop/Training
END:VEVENT
END:VCALENDAR