BEGIN:VCALENDAR
VERSION:2.0
PRODID:-//Recycling Council of Alberta - ECPv6.15.20//NONSGML v1.0//EN
CALSCALE:GREGORIAN
METHOD:PUBLISH
X-WR-CALNAME:Recycling Council of Alberta
X-ORIGINAL-URL:https://recycle.ab.ca
X-WR-CALDESC:Events for Recycling Council of Alberta
REFRESH-INTERVAL;VALUE=DURATION:PT1H
X-Robots-Tag:noindex
X-PUBLISHED-TTL:PT1H
BEGIN:VTIMEZONE
TZID:America/Regina
BEGIN:STANDARD
TZOFFSETFROM:-0600
TZOFFSETTO:-0600
TZNAME:CST
DTSTART:20250101T000000
END:STANDARD
END:VTIMEZONE
BEGIN:VEVENT
DTSTART;TZID=America/Regina:20260417T123000
DTEND;TZID=America/Regina:20260417T163000
DTSTAMP:20260421T214643
CREATED:20260304T175541Z
LAST-MODIFIED:20260304T205001Z
UID:10000186-1776429000-1776443400@recycle.ab.ca
SUMMARY:Repair Exchange Calgary
DESCRIPTION:Repair Exchange Calgary brings repair to Calgary! \nLike Repair Cafes\, Repair Exchanges are free community events where citizens fix things alongside the help of a community member. The Arusha Centre is collaborating with community associations in Calgary to host Repair Exchange events.
URL:https://recycle.ab.ca/calendar/repair-exchange-calgary-15/2026-04-17/
LOCATION:Genesis Centre\, 7555 Falconridge Blvd NE\, Calgary\, AB\, Canada
CATEGORIES:External Circular,Repair Cafe,Community/Municipal
END:VEVENT
BEGIN:VEVENT
DTSTART;TZID=America/Regina:20260329T123000
DTEND;TZID=America/Regina:20260329T163000
DTSTAMP:20260421T214643
CREATED:20260304T205231Z
LAST-MODIFIED:20260304T205231Z
UID:10000192-1774787400-1774801800@recycle.ab.ca
SUMMARY:Repair Exchange Calgary
DESCRIPTION:Repair Exchange Calgary brings repair to Calgary! \nLike Repair Cafes\, Repair Exchanges are free community events where citizens fix things alongside the help of a community member. The Arusha Centre is collaborating with community associations in Calgary to host Repair Exchange events.
URL:https://recycle.ab.ca/calendar/repair-exchange-calgary-17/2026-03-29/
LOCATION:Hillhurst-Sunnyside Community Association\, Calgary\, AB\, Canada
CATEGORIES:External Circular,Repair Cafe,Community/Municipal
END:VEVENT
BEGIN:VEVENT
DTSTART;TZID=America/Regina:20260328T180000
DTEND;TZID=America/Regina:20260328T213000
DTSTAMP:20260421T214643
CREATED:20260304T163548Z
LAST-MODIFIED:20260304T165651Z
UID:10000184-1774720800-1774733400@recycle.ab.ca
SUMMARY:Earth Hour in Calgary
DESCRIPTION:WHY ATTEND EARTH HOUR? Every year\, Arusha Centre invites our community to join Earth Hour — a moment to switch off the lights and switch on awareness. 💚 It’s more than just an hour in the dark; it’s a celebration of sustainability and community\, featuring live performances\, the Repair Exchange Program to promote repair and reuse\, and green activities that raise awareness about climate change and our role in caring for the Earth. Bring your family and friends and be part of the positive change our planet needs.
URL:https://recycle.ab.ca/calendar/earth-hour-in-calgary/
LOCATION:Calgary Central Library\, 800 3 St SE\, Calgary\, AB\, Canada
CATEGORIES:External Circular,Community/Municipal
END:VEVENT
BEGIN:VEVENT
DTSTART;TZID=America/Regina:20260321T090000
DTEND;TZID=America/Regina:20260321T150000
DTSTAMP:20260421T214643
CREATED:20260304T204852Z
LAST-MODIFIED:20260304T204852Z
UID:10000188-1774083600-1774105200@recycle.ab.ca
SUMMARY:Repair Exchange Calgary
DESCRIPTION:Repair Exchange Calgary brings repair to Calgary! \nLike Repair Cafes\, Repair Exchanges are free community events where citizens fix things alongside the help of a community member. The Arusha Centre is collaborating with community associations in Calgary to host Repair Exchange events.
URL:https://recycle.ab.ca/calendar/repair-exchange-calgary-16/
LOCATION:Sunalta Community Hall\, 1627 10 Ave SW\, Calgary\, AB\, Canada
CATEGORIES:External Circular,Repair Cafe,Community/Municipal
END:VEVENT
BEGIN:VEVENT
DTSTART;TZID=America/Regina:20260320T123000
DTEND;TZID=America/Regina:20260320T163000
DTSTAMP:20260421T214643
CREATED:20260304T175541Z
LAST-MODIFIED:20260304T205001Z
UID:10000185-1774009800-1774024200@recycle.ab.ca
SUMMARY:Repair Exchange Calgary
DESCRIPTION:Repair Exchange Calgary brings repair to Calgary! \nLike Repair Cafes\, Repair Exchanges are free community events where citizens fix things alongside the help of a community member. The Arusha Centre is collaborating with community associations in Calgary to host Repair Exchange events.
URL:https://recycle.ab.ca/calendar/repair-exchange-calgary-15/2026-03-20/
LOCATION:Genesis Centre\, 7555 Falconridge Blvd NE\, Calgary\, AB\, Canada
CATEGORIES:External Circular,Repair Cafe,Community/Municipal
END:VEVENT
END:VCALENDAR