BEGIN:VCALENDAR
VERSION:2.0
PRODID:-//Recycling Council of Alberta - ECPv6.15.20//NONSGML v1.0//EN
CALSCALE:GREGORIAN
METHOD:PUBLISH
X-ORIGINAL-URL:https://recycle.ab.ca
X-WR-CALDESC:Events for Recycling Council of Alberta
REFRESH-INTERVAL;VALUE=DURATION:PT1H
X-Robots-Tag:noindex
X-PUBLISHED-TTL:PT1H
BEGIN:VTIMEZONE
TZID:America/Regina
BEGIN:STANDARD
TZOFFSETFROM:-0600
TZOFFSETTO:-0600
TZNAME:CST
DTSTART:20250101T000000
END:STANDARD
END:VTIMEZONE
BEGIN:VEVENT
DTSTART;TZID=America/Regina:20260426T123000
DTEND;TZID=America/Regina:20260426T163000
DTSTAMP:20260418T191617
CREATED:20260304T205231Z
LAST-MODIFIED:20260304T205231Z
UID:10000193-1777206600-1777221000@recycle.ab.ca
SUMMARY:Repair Exchange Calgary
DESCRIPTION:Repair Exchange Calgary brings repair to Calgary! \nLike Repair Cafes\, Repair Exchanges are free community events where citizens fix things alongside the help of a community member. The Arusha Centre is collaborating with community associations in Calgary to host Repair Exchange events.
URL:https://recycle.ab.ca/calendar/repair-exchange-calgary-17/2026-04-26/
LOCATION:Hillhurst-Sunnyside Community Association\, Calgary\, AB\, Canada
CATEGORIES:External Circular,Repair Cafe,Community/Municipal
END:VEVENT
BEGIN:VEVENT
DTSTART;TZID=America/Regina:20260502T133000
DTEND;TZID=America/Regina:20260502T173000
DTSTAMP:20260418T191617
CREATED:20260304T205410Z
LAST-MODIFIED:20260304T205410Z
UID:10000195-1777728600-1777743000@recycle.ab.ca
SUMMARY:Repair Exchange Calgary
DESCRIPTION:Repair Exchange Calgary brings repair to Calgary! \nLike Repair Cafes\, Repair Exchanges are free community events where citizens fix things alongside the help of a community member. The Arusha Centre is collaborating with community associations in Calgary to host Repair Exchange events.
URL:https://recycle.ab.ca/calendar/repair-exchange-calgary-18/
LOCATION:Dalhousie Community Association\, Calgary\, AB\, Canada
CATEGORIES:External Circular,Repair Cafe,Community/Municipal
END:VEVENT
BEGIN:VEVENT
DTSTART;TZID=America/Regina:20260515T123000
DTEND;TZID=America/Regina:20260515T163000
DTSTAMP:20260418T191617
CREATED:20260304T175541Z
LAST-MODIFIED:20260304T205001Z
UID:10000187-1778848200-1778862600@recycle.ab.ca
SUMMARY:Repair Exchange Calgary
DESCRIPTION:Repair Exchange Calgary brings repair to Calgary! \nLike Repair Cafes\, Repair Exchanges are free community events where citizens fix things alongside the help of a community member. The Arusha Centre is collaborating with community associations in Calgary to host Repair Exchange events.
URL:https://recycle.ab.ca/calendar/repair-exchange-calgary-15/2026-05-15/
LOCATION:Genesis Centre\, 7555 Falconridge Blvd NE\, Calgary\, AB\, Canada
CATEGORIES:External Circular,Repair Cafe,Community/Municipal
END:VEVENT
BEGIN:VEVENT
DTSTART;TZID=America/Regina:20260516T100000
DTEND;TZID=America/Regina:20260516T180000
DTSTAMP:20260418T191617
CREATED:20260304T205456Z
LAST-MODIFIED:20260304T205456Z
UID:10000198-1778925600-1778954400@recycle.ab.ca
SUMMARY:Repair Exchange Calgary
DESCRIPTION:Repair Exchange Calgary brings repair to Calgary! \nLike Repair Cafes\, Repair Exchanges are free community events where citizens fix things alongside the help of a community member. The Arusha Centre is collaborating with community associations in Calgary to host Repair Exchange events.
URL:https://recycle.ab.ca/calendar/repair-exchange-calgary-19/
LOCATION:Scenic Acres Community Association\, Calgary\, AB\, Canada
CATEGORIES:External Circular,Repair Cafe,Community/Municipal
END:VEVENT
BEGIN:VEVENT
DTSTART;TZID=America/Regina:20260531T090000
DTEND;TZID=America/Regina:20260531T150000
DTSTAMP:20260418T191617
CREATED:20260304T205231Z
LAST-MODIFIED:20260304T205231Z
UID:10000194-1780218000-1780239600@recycle.ab.ca
SUMMARY:Repair Exchange Calgary
DESCRIPTION:Repair Exchange Calgary brings repair to Calgary! \nLike Repair Cafes\, Repair Exchanges are free community events where citizens fix things alongside the help of a community member. The Arusha Centre is collaborating with community associations in Calgary to host Repair Exchange events.
URL:https://recycle.ab.ca/calendar/repair-exchange-calgary-17/2026-05-31/
LOCATION:Hillhurst-Sunnyside Community Association\, Calgary\, AB\, Canada
CATEGORIES:External Circular,Repair Cafe,Community/Municipal
END:VEVENT
END:VCALENDAR