BEGIN:VCALENDAR
VERSION:2.0
PRODID:-//Recycling Council of Alberta - ECPv6.15.20//NONSGML v1.0//EN
CALSCALE:GREGORIAN
METHOD:PUBLISH
X-ORIGINAL-URL:https://recycle.ab.ca
X-WR-CALDESC:Events for Recycling Council of Alberta
REFRESH-INTERVAL;VALUE=DURATION:PT1H
X-Robots-Tag:noindex
X-PUBLISHED-TTL:PT1H
BEGIN:VTIMEZONE
TZID:America/Edmonton
BEGIN:DAYLIGHT
TZOFFSETFROM:-0700
TZOFFSETTO:-0600
TZNAME:MDT
DTSTART:20240310T090000
END:DAYLIGHT
BEGIN:STANDARD
TZOFFSETFROM:-0600
TZOFFSETTO:-0700
TZNAME:MST
DTSTART:20241103T080000
END:STANDARD
BEGIN:DAYLIGHT
TZOFFSETFROM:-0700
TZOFFSETTO:-0600
TZNAME:MDT
DTSTART:20250309T090000
END:DAYLIGHT
BEGIN:STANDARD
TZOFFSETFROM:-0600
TZOFFSETTO:-0700
TZNAME:MST
DTSTART:20251102T080000
END:STANDARD
BEGIN:DAYLIGHT
TZOFFSETFROM:-0700
TZOFFSETTO:-0600
TZNAME:MDT
DTSTART:20260308T090000
END:DAYLIGHT
BEGIN:STANDARD
TZOFFSETFROM:-0600
TZOFFSETTO:-0700
TZNAME:MST
DTSTART:20261101T080000
END:STANDARD
END:VTIMEZONE
BEGIN:VEVENT
DTSTART;VALUE=DATE:20251008
DTEND;VALUE=DATE:20251010
DTSTAMP:20260420T230711
CREATED:20250331T150841Z
LAST-MODIFIED:20250331T150841Z
UID:10000063-1759881600-1760054399@recycle.ab.ca
SUMMARY:2025 Rubber Recycling Symposium
DESCRIPTION:in Calgary\, AB
URL:https://recycle.ab.ca/calendar/2025-rubber-recycling-symposium/
LOCATION:Fairmont Palliser Hotel\, 133 9th Avenue SW\, Calgary\, AB\, T2P 2M3\, Canada
CATEGORIES:External Circular,Conference
ORGANIZER;CN="Tire and Rubber Association of Canada":MAILTO:info@tracanada.ca
END:VEVENT
END:VCALENDAR