BEGIN:VCALENDAR
VERSION:2.0
PRODID:-//Recycling Council of Alberta - ECPv6.15.20//NONSGML v1.0//EN
CALSCALE:GREGORIAN
METHOD:PUBLISH
X-WR-CALNAME:Recycling Council of Alberta
X-ORIGINAL-URL:https://recycle.ab.ca
X-WR-CALDESC:Events for Recycling Council of Alberta
REFRESH-INTERVAL;VALUE=DURATION:PT1H
X-Robots-Tag:noindex
X-PUBLISHED-TTL:PT1H
BEGIN:VTIMEZONE
TZID:America/Regina
BEGIN:STANDARD
TZOFFSETFROM:-0600
TZOFFSETTO:-0600
TZNAME:CST
DTSTART:20250101T000000
END:STANDARD
END:VTIMEZONE
BEGIN:VEVENT
DTSTART;TZID=America/Regina:20260512T080000
DTEND;TZID=America/Regina:20260512T140000
DTSTAMP:20260420T144639
CREATED:20260304T211754Z
LAST-MODIFIED:20260304T211754Z
UID:10000201-1778572800-1778594400@recycle.ab.ca
SUMMARY:Commercial Paint Roundup
DESCRIPTION:Businesses and commercial painters: bring in your leftover paint\, spray paint\, and empty paint cans for free!\nTo qualify\, all paint or paint-related materials must be part of the ARMA Paint Recycling Program. \nAccepted items include latex (water-based) and non-latex (oil-based) paints\, stains\, varnishes\, lacquers\, mineral spirits\, paint thinners\, primers\, sealers\, undercoats\, wood preservatives\, deck cleaners\, and paint strippers. All items must be in their original containers and between 100 mL and 23 L. \nCouriers and delivery drivers must wait while their load is inspected. Non-eligible materials will be returned with the driver. Common ineligible items include two-component paints and post-catalyzed lacquers. \nDrop-offs are only allowed during designated event times. A strict cut-off will be enforced to allow for sorting and transport.
URL:https://recycle.ab.ca/calendar/commercial-paint-roundup/2026-05-12/
LOCATION:Renue Paint Recycling in Calgary\, 6224 – 29 Street SE\, Calgary\, AB\, T2C 1W3\, Canada
CATEGORIES:External Circular,Recycling Roundup
ORGANIZER;CN="Alberta recycling management authority":MAILTO:info@albertarecycling.ca
END:VEVENT
BEGIN:VEVENT
DTSTART;TZID=America/Regina:20260609T080000
DTEND;TZID=America/Regina:20260609T140000
DTSTAMP:20260420T144639
CREATED:20260304T211754Z
LAST-MODIFIED:20260304T211754Z
UID:10000202-1780992000-1781013600@recycle.ab.ca
SUMMARY:Commercial Paint Roundup
DESCRIPTION:Businesses and commercial painters: bring in your leftover paint\, spray paint\, and empty paint cans for free!\nTo qualify\, all paint or paint-related materials must be part of the ARMA Paint Recycling Program. \nAccepted items include latex (water-based) and non-latex (oil-based) paints\, stains\, varnishes\, lacquers\, mineral spirits\, paint thinners\, primers\, sealers\, undercoats\, wood preservatives\, deck cleaners\, and paint strippers. All items must be in their original containers and between 100 mL and 23 L. \nCouriers and delivery drivers must wait while their load is inspected. Non-eligible materials will be returned with the driver. Common ineligible items include two-component paints and post-catalyzed lacquers. \nDrop-offs are only allowed during designated event times. A strict cut-off will be enforced to allow for sorting and transport.
URL:https://recycle.ab.ca/calendar/commercial-paint-roundup/2026-06-09/
LOCATION:Renue Paint Recycling in Calgary\, 6224 – 29 Street SE\, Calgary\, AB\, T2C 1W3\, Canada
CATEGORIES:External Circular,Recycling Roundup
ORGANIZER;CN="Alberta recycling management authority":MAILTO:info@albertarecycling.ca
END:VEVENT
BEGIN:VEVENT
DTSTART;TZID=America/Regina:20260915T080000
DTEND;TZID=America/Regina:20260915T140000
DTSTAMP:20260420T144639
CREATED:20260304T211754Z
LAST-MODIFIED:20260304T211754Z
UID:10000203-1789459200-1789480800@recycle.ab.ca
SUMMARY:Commercial Paint Roundup
DESCRIPTION:Businesses and commercial painters: bring in your leftover paint\, spray paint\, and empty paint cans for free!\nTo qualify\, all paint or paint-related materials must be part of the ARMA Paint Recycling Program. \nAccepted items include latex (water-based) and non-latex (oil-based) paints\, stains\, varnishes\, lacquers\, mineral spirits\, paint thinners\, primers\, sealers\, undercoats\, wood preservatives\, deck cleaners\, and paint strippers. All items must be in their original containers and between 100 mL and 23 L. \nCouriers and delivery drivers must wait while their load is inspected. Non-eligible materials will be returned with the driver. Common ineligible items include two-component paints and post-catalyzed lacquers. \nDrop-offs are only allowed during designated event times. A strict cut-off will be enforced to allow for sorting and transport.
URL:https://recycle.ab.ca/calendar/commercial-paint-roundup/2026-09-15/
LOCATION:Renue Paint Recycling in Calgary\, 6224 – 29 Street SE\, Calgary\, AB\, T2C 1W3\, Canada
CATEGORIES:External Circular,Recycling Roundup
ORGANIZER;CN="Alberta recycling management authority":MAILTO:info@albertarecycling.ca
END:VEVENT
BEGIN:VEVENT
DTSTART;TZID=America/Regina:20261110T080000
DTEND;TZID=America/Regina:20261110T140000
DTSTAMP:20260420T144639
CREATED:20260304T211754Z
LAST-MODIFIED:20260304T211754Z
UID:10000204-1794297600-1794319200@recycle.ab.ca
SUMMARY:Commercial Paint Roundup
DESCRIPTION:Businesses and commercial painters: bring in your leftover paint\, spray paint\, and empty paint cans for free!\nTo qualify\, all paint or paint-related materials must be part of the ARMA Paint Recycling Program. \nAccepted items include latex (water-based) and non-latex (oil-based) paints\, stains\, varnishes\, lacquers\, mineral spirits\, paint thinners\, primers\, sealers\, undercoats\, wood preservatives\, deck cleaners\, and paint strippers. All items must be in their original containers and between 100 mL and 23 L. \nCouriers and delivery drivers must wait while their load is inspected. Non-eligible materials will be returned with the driver. Common ineligible items include two-component paints and post-catalyzed lacquers. \nDrop-offs are only allowed during designated event times. A strict cut-off will be enforced to allow for sorting and transport.
URL:https://recycle.ab.ca/calendar/commercial-paint-roundup/2026-11-10/
LOCATION:Renue Paint Recycling in Calgary\, 6224 – 29 Street SE\, Calgary\, AB\, T2C 1W3\, Canada
CATEGORIES:External Circular,Recycling Roundup
ORGANIZER;CN="Alberta recycling management authority":MAILTO:info@albertarecycling.ca
END:VEVENT
END:VCALENDAR